BEGIN:VCALENDAR
VERSION:2.0
PRODID:-//Ajuntament Corbera d&#039;Ebre - ECPv6.0.4//NONSGML v1.0//EN
CALSCALE:GREGORIAN
METHOD:PUBLISH
X-WR-CALNAME:Ajuntament Corbera d&#039;Ebre
X-ORIGINAL-URL:https://www.corberaebre.cat
X-WR-CALDESC:Esdeveniments per Ajuntament Corbera d&#039;Ebre
REFRESH-INTERVAL;VALUE=DURATION:PT1H
X-Robots-Tag:noindex
X-PUBLISHED-TTL:PT1H
BEGIN:VTIMEZONE
TZID:Europe/Madrid
BEGIN:DAYLIGHT
TZOFFSETFROM:+0100
TZOFFSETTO:+0200
TZNAME:CEST
DTSTART:20230326T010000
END:DAYLIGHT
BEGIN:STANDARD
TZOFFSETFROM:+0200
TZOFFSETTO:+0100
TZNAME:CET
DTSTART:20231029T010000
END:STANDARD
BEGIN:DAYLIGHT
TZOFFSETFROM:+0100
TZOFFSETTO:+0200
TZNAME:CEST
DTSTART:20240331T010000
END:DAYLIGHT
BEGIN:STANDARD
TZOFFSETFROM:+0200
TZOFFSETTO:+0100
TZNAME:CET
DTSTART:20241027T010000
END:STANDARD
BEGIN:DAYLIGHT
TZOFFSETFROM:+0100
TZOFFSETTO:+0200
TZNAME:CEST
DTSTART:20250330T010000
END:DAYLIGHT
BEGIN:STANDARD
TZOFFSETFROM:+0200
TZOFFSETTO:+0100
TZNAME:CET
DTSTART:20251026T010000
END:STANDARD
END:VTIMEZONE
BEGIN:VEVENT
DTSTART;TZID=Europe/Madrid:20231130T200000
DTEND;TZID=Europe/Madrid:20231130T210000
DTSTAMP:20260424T183732
CREATED:20231211T072727Z
LAST-MODIFIED:20240122T124632Z
UID:10000061-1701374400-1701378000@www.corberaebre.cat
SUMMARY:Reunió dels membres de l’Associació Poble Vell amb l’equip de Govern
DESCRIPTION:
URL:https://www.corberaebre.cat/event/reunio-dels-membres-de-lassociacio-poble-vell-amb-lequip-de-govern-convocada-per-la-regidora-del-poble-vell/
LOCATION:AJUNTAMENT DE CORBERA D’EBRE\, PLAÇA DOCTOR FERRAN S/N\, CORBERA D'EBRE\, 43784
CATEGORIES:Alcaldia
ORGANIZER;CN="Ajuntament%20de%20Corbera%20d%27Ebre":MAILTO:ajuntament@corberaebre.cat
END:VEVENT
BEGIN:VEVENT
DTSTART;TZID=Europe/Madrid:20231213T190000
DTEND;TZID=Europe/Madrid:20231213T191000
DTSTAMP:20260424T183732
CREATED:20240419T070233Z
LAST-MODIFIED:20240419T070233Z
UID:10000078-1702494000-1702494600@www.corberaebre.cat
SUMMARY:SESSIÓ DE PLE/2023/13
DESCRIPTION:
URL:https://www.corberaebre.cat/event/sessio-de-ple-2023-13/
LOCATION:AJUNTAMENT DE CORBERA D’EBRE\, PLAÇA DOCTOR FERRAN S/N\, CORBERA D'EBRE\, 43784
CATEGORIES:Alcaldia
ORGANIZER;CN="Ajuntament%20de%20Corbera%20d%27Ebre":MAILTO:ajuntament@corberaebre.cat
END:VEVENT
BEGIN:VEVENT
DTSTART;TZID=Europe/Madrid:20231219T173000
DTEND;TZID=Europe/Madrid:20231219T184000
DTSTAMP:20260424T183732
CREATED:20240419T064146Z
LAST-MODIFIED:20240419T064146Z
UID:10000071-1703007000-1703011200@www.corberaebre.cat
SUMMARY:JUNTA DE GOVERN (JGL/2023/23)
DESCRIPTION:
URL:https://www.corberaebre.cat/event/junta-de-govern-jgl-2023-23/
LOCATION:AJUNTAMENT DE CORBERA D’EBRE\, PLAÇA DOCTOR FERRAN S/N\, CORBERA D'EBRE\, 43784
CATEGORIES:Alcaldia
ORGANIZER;CN="Ajuntament%20de%20Corbera%20d%27Ebre":MAILTO:ajuntament@corberaebre.cat
END:VEVENT
BEGIN:VEVENT
DTSTART;TZID=Europe/Madrid:20240116T130000
DTEND;TZID=Europe/Madrid:20240116T133000
DTSTAMP:20260424T183732
CREATED:20240122T124533Z
LAST-MODIFIED:20240122T124734Z
UID:10000064-1705410000-1705411800@www.corberaebre.cat
SUMMARY:Reunió amb la Cap d'Oficina i el Coordinador de BASE
DESCRIPTION:
URL:https://www.corberaebre.cat/event/reunio-base/
LOCATION:AJUNTAMENT DE CORBERA D’EBRE\, PLAÇA DOCTOR FERRAN S/N\, CORBERA D'EBRE\, 43784
CATEGORIES:Alcaldia
END:VEVENT
BEGIN:VEVENT
DTSTART;TZID=Europe/Madrid:20240131T190000
DTEND;TZID=Europe/Madrid:20240131T201500
DTSTAMP:20260424T183732
CREATED:20240419T064615Z
LAST-MODIFIED:20240419T064615Z
UID:10000072-1706727600-1706732100@www.corberaebre.cat
SUMMARY:JUNTA DE GOVERN (JGL/2024/1)
DESCRIPTION:
URL:https://www.corberaebre.cat/event/junta-de-govern-jgl-2024-1/
LOCATION:AJUNTAMENT DE CORBERA D’EBRE\, PLAÇA DOCTOR FERRAN S/N\, CORBERA D'EBRE\, 43784
CATEGORIES:Alcaldia
ORGANIZER;CN="Ajuntament%20de%20Corbera%20d%27Ebre":MAILTO:ajuntament@corberaebre.cat
END:VEVENT
BEGIN:VEVENT
DTSTART;TZID=Europe/Madrid:20240205T193500
DTEND;TZID=Europe/Madrid:20240205T194000
DTSTAMP:20260424T183732
CREATED:20240419T070401Z
LAST-MODIFIED:20240419T070401Z
UID:10000079-1707161700-1707162000@www.corberaebre.cat
SUMMARY:SESSIÓ DE PLE/2024/1
DESCRIPTION:
URL:https://www.corberaebre.cat/event/sessio-de-ple-2024-1/
LOCATION:AJUNTAMENT DE CORBERA D’EBRE\, PLAÇA DOCTOR FERRAN S/N\, CORBERA D'EBRE\, 43784
CATEGORIES:Alcaldia
ORGANIZER;CN="Ajuntament%20de%20Corbera%20d%27Ebre":MAILTO:ajuntament@corberaebre.cat
END:VEVENT
BEGIN:VEVENT
DTSTART;TZID=Europe/Madrid:20240205T194500
DTEND;TZID=Europe/Madrid:20240205T201500
DTSTAMP:20260424T183732
CREATED:20240419T064707Z
LAST-MODIFIED:20240419T064707Z
UID:10000073-1707162300-1707164100@www.corberaebre.cat
SUMMARY:JUNTA DE GOVERN (JGL/2024/2)
DESCRIPTION:
URL:https://www.corberaebre.cat/event/junta-de-govern-jgl-2024-2/
LOCATION:AJUNTAMENT DE CORBERA D’EBRE\, PLAÇA DOCTOR FERRAN S/N\, CORBERA D'EBRE\, 43784
CATEGORIES:Alcaldia
ORGANIZER;CN="Ajuntament%20de%20Corbera%20d%27Ebre":MAILTO:ajuntament@corberaebre.cat
END:VEVENT
BEGIN:VEVENT
DTSTART;TZID=Europe/Madrid:20240220T193000
DTEND;TZID=Europe/Madrid:20240220T201500
DTSTAMP:20260424T183732
CREATED:20240419T064829Z
LAST-MODIFIED:20240419T065134Z
UID:10000074-1708457400-1708460100@www.corberaebre.cat
SUMMARY:JUNTA DE GOVERN (JGL/2024/3)
DESCRIPTION:
URL:https://www.corberaebre.cat/event/junta-de-govern-jgl-2024-3/
LOCATION:AJUNTAMENT DE CORBERA D’EBRE\, PLAÇA DOCTOR FERRAN S/N\, CORBERA D'EBRE\, 43784
CATEGORIES:Alcaldia
ORGANIZER;CN="Ajuntament%20de%20Corbera%20d%27Ebre":MAILTO:ajuntament@corberaebre.cat
END:VEVENT
BEGIN:VEVENT
DTSTART;TZID=Europe/Madrid:20240301T193500
DTEND;TZID=Europe/Madrid:20240301T194000
DTSTAMP:20260424T183732
CREATED:20240419T071211Z
LAST-MODIFIED:20240419T071211Z
UID:10000083-1709321700-1709322000@www.corberaebre.cat
SUMMARY:SESSIÓ DE PLE/2024/2
DESCRIPTION:
URL:https://www.corberaebre.cat/event/sessio-de-ple-2024-2/
LOCATION:AJUNTAMENT DE CORBERA D’EBRE\, PLAÇA DOCTOR FERRAN S/N\, CORBERA D'EBRE\, 43784
CATEGORIES:Alcaldia
ORGANIZER;CN="Ajuntament%20de%20Corbera%20d%27Ebre":MAILTO:ajuntament@corberaebre.cat
END:VEVENT
BEGIN:VEVENT
DTSTART;TZID=Europe/Madrid:20240307T194500
DTEND;TZID=Europe/Madrid:20240307T203000
DTSTAMP:20260424T183732
CREATED:20240419T064943Z
LAST-MODIFIED:20240419T064943Z
UID:10000075-1709840700-1709843400@www.corberaebre.cat
SUMMARY:JUNTA DE GOVERN (JGL/2024/4)
DESCRIPTION:
URL:https://www.corberaebre.cat/event/junta-de-govern-jgl-2024-4/
LOCATION:AJUNTAMENT DE CORBERA D’EBRE\, PLAÇA DOCTOR FERRAN S/N\, CORBERA D'EBRE\, 43784
CATEGORIES:Alcaldia
ORGANIZER;CN="Ajuntament%20de%20Corbera%20d%27Ebre":MAILTO:ajuntament@corberaebre.cat
END:VEVENT
BEGIN:VEVENT
DTSTART;TZID=Europe/Madrid:20240318T192000
DTEND;TZID=Europe/Madrid:20240318T193000
DTSTAMP:20260424T183732
CREATED:20240419T070608Z
LAST-MODIFIED:20240419T070608Z
UID:10000080-1710789600-1710790200@www.corberaebre.cat
SUMMARY:SESSIÓ DE PLE/2024/3
DESCRIPTION:
URL:https://www.corberaebre.cat/event/sessio-de-ple-2024-3/
LOCATION:AJUNTAMENT DE CORBERA D’EBRE\, PLAÇA DOCTOR FERRAN S/N\, CORBERA D'EBRE\, 43784
CATEGORIES:Alcaldia
ORGANIZER;CN="Ajuntament%20de%20Corbera%20d%27Ebre":MAILTO:ajuntament@corberaebre.cat
END:VEVENT
BEGIN:VEVENT
DTSTART;TZID=Europe/Madrid:20240318T200000
DTEND;TZID=Europe/Madrid:20240318T203000
DTSTAMP:20260424T183732
CREATED:20240419T065029Z
LAST-MODIFIED:20240419T065029Z
UID:10000076-1710792000-1710793800@www.corberaebre.cat
SUMMARY:JUNTA DE GOVERN (JGL/2024/5)
DESCRIPTION:
URL:https://www.corberaebre.cat/event/junta-de-govern-jgl-2024-5/
LOCATION:AJUNTAMENT DE CORBERA D’EBRE\, PLAÇA DOCTOR FERRAN S/N\, CORBERA D'EBRE\, 43784
CATEGORIES:Alcaldia
ORGANIZER;CN="Ajuntament%20de%20Corbera%20d%27Ebre":MAILTO:ajuntament@corberaebre.cat
END:VEVENT
BEGIN:VEVENT
DTSTART;TZID=Europe/Madrid:20240408T191500
DTEND;TZID=Europe/Madrid:20240408T194500
DTSTAMP:20260424T183732
CREATED:20240419T065110Z
LAST-MODIFIED:20240419T065110Z
UID:10000077-1712603700-1712605500@www.corberaebre.cat
SUMMARY:JUNTA DE GOVERN (JGL/2024/6)
DESCRIPTION:
URL:https://www.corberaebre.cat/event/junta-de-govern-jgl-2024-6/
LOCATION:AJUNTAMENT DE CORBERA D’EBRE\, PLAÇA DOCTOR FERRAN S/N\, CORBERA D'EBRE\, 43784
CATEGORIES:Alcaldia
ORGANIZER;CN="Ajuntament%20de%20Corbera%20d%27Ebre":MAILTO:ajuntament@corberaebre.cat
END:VEVENT
BEGIN:VEVENT
DTSTART;TZID=Europe/Madrid:20240415T193000
DTEND;TZID=Europe/Madrid:20240415T204000
DTSTAMP:20260424T183732
CREATED:20240419T070827Z
LAST-MODIFIED:20240419T070827Z
UID:10000081-1713209400-1713213600@www.corberaebre.cat
SUMMARY:SESSIÓ DE PLE/2024/4
DESCRIPTION:
URL:https://www.corberaebre.cat/event/sessio-de-ple-2024-4/
LOCATION:AJUNTAMENT DE CORBERA D’EBRE\, PLAÇA DOCTOR FERRAN S/N\, CORBERA D'EBRE\, 43784
CATEGORIES:Alcaldia
ORGANIZER;CN="Ajuntament%20de%20Corbera%20d%27Ebre":MAILTO:ajuntament@corberaebre.cat
END:VEVENT
BEGIN:VEVENT
DTSTART;TZID=Europe/Madrid:20240415T204000
DTEND;TZID=Europe/Madrid:20240415T205500
DTSTAMP:20260424T183732
CREATED:20240419T070956Z
LAST-MODIFIED:20240419T070956Z
UID:10000082-1713213600-1713214500@www.corberaebre.cat
SUMMARY:SESSIÓ DE PLE/2024/5
DESCRIPTION:
URL:https://www.corberaebre.cat/event/sessio-de-ple-2024-5/
LOCATION:AJUNTAMENT DE CORBERA D’EBRE\, PLAÇA DOCTOR FERRAN S/N\, CORBERA D'EBRE\, 43784
CATEGORIES:Alcaldia
ORGANIZER;CN="Ajuntament%20de%20Corbera%20d%27Ebre":MAILTO:ajuntament@corberaebre.cat
END:VEVENT
BEGIN:VEVENT
DTSTART;TZID=Europe/Madrid:20240611T113000
DTEND;TZID=Europe/Madrid:20240611T123000
DTSTAMP:20260424T183732
CREATED:20240916T063925Z
LAST-MODIFIED:20240916T063925Z
UID:10000089-1718105400-1718109000@www.corberaebre.cat
SUMMARY:REUNIÓ ORDINÀRIA CONSELL ADMINISTRACIÓ DEL COMEBE
DESCRIPTION:
URL:https://www.corberaebre.cat/event/reunio-ordinaria-consell-administracio-del-comebe/
LOCATION:AJUNTAMENT DE CORBERA D’EBRE\, PLAÇA DOCTOR FERRAN S/N\, CORBERA D'EBRE\, 43784
CATEGORIES:Alcaldia
END:VEVENT
BEGIN:VEVENT
DTSTART;TZID=Europe/Madrid:20250123T190000
DTEND;TZID=Europe/Madrid:20250123T191000
DTSTAMP:20260424T183732
CREATED:20250903T102542Z
LAST-MODIFIED:20250903T102542Z
UID:10000095-1737658800-1737659400@www.corberaebre.cat
SUMMARY:PLE/2025/1
DESCRIPTION:
URL:https://www.corberaebre.cat/event/ple-2025-1/
LOCATION:AJUNTAMENT DE CORBERA D’EBRE\, PLAÇA DOCTOR FERRAN S/N\, CORBERA D'EBRE\, 43784
CATEGORIES:Alcaldia
ORGANIZER;CN="Ajuntament%20de%20Corbera%20d%27Ebre":MAILTO:ajuntament@corberaebre.cat
END:VEVENT
BEGIN:VEVENT
DTSTART;TZID=Europe/Madrid:20250130T190500
DTEND;TZID=Europe/Madrid:20250130T192000
DTSTAMP:20260424T183732
CREATED:20250903T102646Z
LAST-MODIFIED:20250903T102646Z
UID:10000096-1738263900-1738264800@www.corberaebre.cat
SUMMARY:PLE/2025/2
DESCRIPTION:
URL:https://www.corberaebre.cat/event/ple-2025-2/
LOCATION:AJUNTAMENT DE CORBERA D’EBRE\, PLAÇA DOCTOR FERRAN S/N\, CORBERA D'EBRE\, 43784
CATEGORIES:Alcaldia
ORGANIZER;CN="Ajuntament%20de%20Corbera%20d%27Ebre":MAILTO:ajuntament@corberaebre.cat
END:VEVENT
BEGIN:VEVENT
DTSTART;TZID=Europe/Madrid:20250224T190000
DTEND;TZID=Europe/Madrid:20250224T195100
DTSTAMP:20260424T183732
CREATED:20250903T102746Z
LAST-MODIFIED:20250903T102753Z
UID:10000097-1740423600-1740426660@www.corberaebre.cat
SUMMARY:PLE/2025/3
DESCRIPTION:
URL:https://www.corberaebre.cat/event/ple2025-3/
LOCATION:AJUNTAMENT DE CORBERA D’EBRE\, PLAÇA DOCTOR FERRAN S/N\, CORBERA D'EBRE\, 43784
CATEGORIES:Alcaldia
ORGANIZER;CN="Ajuntament%20de%20Corbera%20d%27Ebre":MAILTO:ajuntament@corberaebre.cat
END:VEVENT
BEGIN:VEVENT
DTSTART;TZID=Europe/Madrid:20250311T090000
DTEND;TZID=Europe/Madrid:20250311T100000
DTSTAMP:20260424T183732
CREATED:20250903T105745Z
LAST-MODIFIED:20250903T105745Z
UID:10000108-1741683600-1741687200@www.corberaebre.cat
SUMMARY:Reunió amb el Delegat Territorial del Govern a les Terres de l'Ebre
DESCRIPTION:Reunió amb el Delegat Territorial del Govern a les Terres de l’Ebre el Sr. Joan Castor Gonell Agramunt.
URL:https://www.corberaebre.cat/event/reunio-amb-el-delegat-territorial-del-govern-a-les-terres-de-lebre/
LOCATION:AJUNTAMENT DE CORBERA D’EBRE\, PLAÇA DOCTOR FERRAN S/N\, CORBERA D'EBRE\, 43784
CATEGORIES:Alcaldia
END:VEVENT
BEGIN:VEVENT
DTSTART;TZID=Europe/Madrid:20250327T113000
DTEND;TZID=Europe/Madrid:20250327T115000
DTSTAMP:20260424T183732
CREATED:20250903T104002Z
LAST-MODIFIED:20250903T104002Z
UID:10000100-1743075000-1743076200@www.corberaebre.cat
SUMMARY:JGL/2025/1
DESCRIPTION:
URL:https://www.corberaebre.cat/event/jgl-2025-1/
LOCATION:AJUNTAMENT DE CORBERA D’EBRE\, PLAÇA DOCTOR FERRAN S/N\, CORBERA D'EBRE\, 43784
CATEGORIES:Alcaldia
ORGANIZER;CN="Ajuntament%20de%20Corbera%20d%27Ebre":MAILTO:ajuntament@corberaebre.cat
END:VEVENT
BEGIN:VEVENT
DTSTART;TZID=Europe/Madrid:20250328T141500
DTEND;TZID=Europe/Madrid:20250328T143000
DTSTAMP:20260424T183732
CREATED:20250903T104053Z
LAST-MODIFIED:20250903T104053Z
UID:10000101-1743171300-1743172200@www.corberaebre.cat
SUMMARY:JGL/2025/2
DESCRIPTION:
URL:https://www.corberaebre.cat/event/jgl-2025-2/
LOCATION:AJUNTAMENT DE CORBERA D’EBRE\, PLAÇA DOCTOR FERRAN S/N\, CORBERA D'EBRE\, 43784
CATEGORIES:Alcaldia
ORGANIZER;CN="Ajuntament%20de%20Corbera%20d%27Ebre":MAILTO:ajuntament@corberaebre.cat
END:VEVENT
BEGIN:VEVENT
DTSTART;TZID=Europe/Madrid:20250409T084500
DTEND;TZID=Europe/Madrid:20250409T091500
DTSTAMP:20260424T183732
CREATED:20250903T104149Z
LAST-MODIFIED:20250903T104149Z
UID:10000102-1744188300-1744190100@www.corberaebre.cat
SUMMARY:JGL/2025/3
DESCRIPTION:
URL:https://www.corberaebre.cat/event/jgl-2025-3/
LOCATION:AJUNTAMENT DE CORBERA D’EBRE\, PLAÇA DOCTOR FERRAN S/N\, CORBERA D'EBRE\, 43784
CATEGORIES:Alcaldia
ORGANIZER;CN="Ajuntament%20de%20Corbera%20d%27Ebre":MAILTO:ajuntament@corberaebre.cat
END:VEVENT
BEGIN:VEVENT
DTSTART;TZID=Europe/Madrid:20250411T130000
DTEND;TZID=Europe/Madrid:20250411T131000
DTSTAMP:20260424T183732
CREATED:20250903T102852Z
LAST-MODIFIED:20250903T102852Z
UID:10000098-1744376400-1744377000@www.corberaebre.cat
SUMMARY:PLE/2025/4
DESCRIPTION:
URL:https://www.corberaebre.cat/event/ple-2025-4/
LOCATION:AJUNTAMENT DE CORBERA D’EBRE\, PLAÇA DOCTOR FERRAN S/N\, CORBERA D'EBRE\, 43784
CATEGORIES:Alcaldia
ORGANIZER;CN="Ajuntament%20de%20Corbera%20d%27Ebre":MAILTO:ajuntament@corberaebre.cat
END:VEVENT
BEGIN:VEVENT
DTSTART;TZID=Europe/Madrid:20250430T123000
DTEND;TZID=Europe/Madrid:20250430T131500
DTSTAMP:20260424T183732
CREATED:20250903T104250Z
LAST-MODIFIED:20250903T104250Z
UID:10000103-1746016200-1746018900@www.corberaebre.cat
SUMMARY:JGL/2025/4
DESCRIPTION:
URL:https://www.corberaebre.cat/event/jgl-2025-4/
LOCATION:AJUNTAMENT DE CORBERA D’EBRE\, PLAÇA DOCTOR FERRAN S/N\, CORBERA D'EBRE\, 43784
CATEGORIES:Alcaldia
ORGANIZER;CN="Ajuntament%20de%20Corbera%20d%27Ebre":MAILTO:ajuntament@corberaebre.cat
END:VEVENT
BEGIN:VEVENT
DTSTART;TZID=Europe/Madrid:20250514T131500
DTEND;TZID=Europe/Madrid:20250514T140000
DTSTAMP:20260424T183732
CREATED:20250903T104439Z
LAST-MODIFIED:20250903T104447Z
UID:10000104-1747228500-1747231200@www.corberaebre.cat
SUMMARY:JGL/2025/5
DESCRIPTION:
URL:https://www.corberaebre.cat/event/jgl-2025-5/
LOCATION:AJUNTAMENT DE CORBERA D’EBRE\, PLAÇA DOCTOR FERRAN S/N\, CORBERA D'EBRE\, 43784
CATEGORIES:Alcaldia
ORGANIZER;CN="Ajuntament%20de%20Corbera%20d%27Ebre":MAILTO:ajuntament@corberaebre.cat
END:VEVENT
BEGIN:VEVENT
DTSTART;TZID=Europe/Madrid:20250520T130500
DTEND;TZID=Europe/Madrid:20250520T132000
DTSTAMP:20260424T183732
CREATED:20250903T103003Z
LAST-MODIFIED:20250903T103009Z
UID:10000099-1747746300-1747747200@www.corberaebre.cat
SUMMARY:PLE/2025/5
DESCRIPTION:
URL:https://www.corberaebre.cat/event/ple-2025-5/
LOCATION:AJUNTAMENT DE CORBERA D’EBRE\, PLAÇA DOCTOR FERRAN S/N\, CORBERA D'EBRE\, 43784
CATEGORIES:Alcaldia
ORGANIZER;CN="Ajuntament%20de%20Corbera%20d%27Ebre":MAILTO:ajuntament@corberaebre.cat
END:VEVENT
BEGIN:VEVENT
DTSTART;TZID=Europe/Madrid:20250523T133000
DTEND;TZID=Europe/Madrid:20250523T140000
DTSTAMP:20260424T183732
CREATED:20250903T104545Z
LAST-MODIFIED:20250903T104545Z
UID:10000105-1748007000-1748008800@www.corberaebre.cat
SUMMARY:JGL/2025/6
DESCRIPTION:
URL:https://www.corberaebre.cat/event/jgl-2025-6/
LOCATION:AJUNTAMENT DE CORBERA D’EBRE\, PLAÇA DOCTOR FERRAN S/N\, CORBERA D'EBRE\, 43784
CATEGORIES:Alcaldia
ORGANIZER;CN="Ajuntament%20de%20Corbera%20d%27Ebre":MAILTO:ajuntament@corberaebre.cat
END:VEVENT
BEGIN:VEVENT
DTSTART;VALUE=DATE:20250526
DTEND;VALUE=DATE:20250527
DTSTAMP:20260424T183732
CREATED:20260417T055953Z
LAST-MODIFIED:20260417T055953Z
UID:10000127-1748217600-1748303999@www.corberaebre.cat
SUMMARY:JGL/2025/7
DESCRIPTION:
URL:https://www.corberaebre.cat/event/jgl-2025-7/
LOCATION:AJUNTAMENT DE CORBERA D’EBRE\, PLAÇA DOCTOR FERRAN S/N\, CORBERA D'EBRE\, 43784
CATEGORIES:Alcaldia
END:VEVENT
BEGIN:VEVENT
DTSTART;TZID=Europe/Madrid:20250606T120500
DTEND;TZID=Europe/Madrid:20250606T123000
DTSTAMP:20260424T183732
CREATED:20250925T113026Z
LAST-MODIFIED:20250925T113026Z
UID:10000117-1749211500-1749213000@www.corberaebre.cat
SUMMARY:PLE/2025/6
DESCRIPTION:
URL:https://www.corberaebre.cat/event/ple-2025-6/
LOCATION:AJUNTAMENT DE CORBERA D’EBRE\, PLAÇA DOCTOR FERRAN S/N\, CORBERA D'EBRE\, 43784
CATEGORIES:Alcaldia
ORGANIZER;CN="Ajuntament%20de%20Corbera%20d%27Ebre":MAILTO:ajuntament@corberaebre.cat
END:VEVENT
END:VCALENDAR