BEGIN:VCALENDAR
VERSION:2.0
PRODID:-//Ajuntament Corbera d&#039;Ebre - ECPv6.0.4//NONSGML v1.0//EN
CALSCALE:GREGORIAN
METHOD:PUBLISH
X-ORIGINAL-URL:https://www.corberaebre.cat
X-WR-CALDESC:Esdeveniments per Ajuntament Corbera d&#039;Ebre
REFRESH-INTERVAL;VALUE=DURATION:PT1H
X-Robots-Tag:noindex
X-PUBLISHED-TTL:PT1H
BEGIN:VTIMEZONE
TZID:Europe/Madrid
BEGIN:DAYLIGHT
TZOFFSETFROM:+0100
TZOFFSETTO:+0200
TZNAME:CEST
DTSTART:20260329T010000
END:DAYLIGHT
BEGIN:STANDARD
TZOFFSETFROM:+0200
TZOFFSETTO:+0100
TZNAME:CET
DTSTART:20261025T010000
END:STANDARD
END:VTIMEZONE
BEGIN:VEVENT
DTSTART;VALUE=DATE:20260202
DTEND;VALUE=DATE:20260203
DTSTAMP:20260424T172350
CREATED:20260416T123450Z
LAST-MODIFIED:20260416T123830Z
UID:10000124-1769990400-1770076799@www.corberaebre.cat
SUMMARY:Municipis per la llengua
DESCRIPTION:Reunió al Consell Comarcal de la Terra Alta – Municipis per la llengua
URL:https://www.corberaebre.cat/event/municipis-per-la-llengua/
LOCATION:Consell Comarcal de la Terra Alta
CATEGORIES:Alcaldia
END:VEVENT
BEGIN:VEVENT
DTSTART;VALUE=DATE:20260206
DTEND;VALUE=DATE:20260207
DTSTAMP:20260424T172350
CREATED:20260417T061805Z
LAST-MODIFIED:20260417T061805Z
UID:10000152-1770336000-1770422399@www.corberaebre.cat
SUMMARY:JGL/2026/3
DESCRIPTION:
URL:https://www.corberaebre.cat/event/jgl-2026-3/
LOCATION:AJUNTAMENT DE CORBERA D’EBRE\, PLAÇA DOCTOR FERRAN S/N\, CORBERA D'EBRE\, 43784
CATEGORIES:Alcaldia
END:VEVENT
BEGIN:VEVENT
DTSTART;VALUE=DATE:20260206
DTEND;VALUE=DATE:20260208
DTSTAMP:20260424T172350
CREATED:20260126T132520Z
LAST-MODIFIED:20260126T132520Z
UID:10000122-1770336000-1770508799@www.corberaebre.cat
SUMMARY:CARNAVAL 2026
DESCRIPTION:
URL:https://www.corberaebre.cat/event/carnaval-2026/
LOCATION:CORBERA D’EBRE\, CORBERA D'EBRE\, TARRAGONA\, 43784\, Espanya
CATEGORIES:Event
ATTACH;FMTTYPE=image/png:https://www.corberaebre.cat/wp-content/uploads/2026/01/CARTELL.png
END:VEVENT
BEGIN:VEVENT
DTSTART;VALUE=DATE:20260219
DTEND;VALUE=DATE:20260220
DTSTAMP:20260424T172350
CREATED:20260417T061830Z
LAST-MODIFIED:20260417T061830Z
UID:10000153-1771459200-1771545599@www.corberaebre.cat
SUMMARY:JGL/2026/4
DESCRIPTION:
URL:https://www.corberaebre.cat/event/jgl-2026-4/
LOCATION:AJUNTAMENT DE CORBERA D’EBRE\, PLAÇA DOCTOR FERRAN S/N\, CORBERA D'EBRE\, 43784
CATEGORIES:Alcaldia
END:VEVENT
BEGIN:VEVENT
DTSTART;VALUE=DATE:20260220
DTEND;VALUE=DATE:20260221
DTSTAMP:20260424T172350
CREATED:20260416T123908Z
LAST-MODIFIED:20260416T123908Z
UID:10000125-1771545600-1771631999@www.corberaebre.cat
SUMMARY:Reunió informativa activitats extraordinàries
DESCRIPTION:Reunió informativa activitats extraordinàries – Consell Comarcal de la Terra Alta
URL:https://www.corberaebre.cat/event/reunio-informativa-activitats-extraordinaries/
LOCATION:Consell Comarcal de la Terra Alta
END:VEVENT
BEGIN:VEVENT
DTSTART;VALUE=DATE:20260305
DTEND;VALUE=DATE:20260306
DTSTAMP:20260424T172350
CREATED:20260417T061852Z
LAST-MODIFIED:20260417T061852Z
UID:10000154-1772668800-1772755199@www.corberaebre.cat
SUMMARY:JGL/2026/5
DESCRIPTION:
URL:https://www.corberaebre.cat/event/jgl-2026-5/
LOCATION:AJUNTAMENT DE CORBERA D’EBRE\, PLAÇA DOCTOR FERRAN S/N\, CORBERA D'EBRE\, 43784
CATEGORIES:Alcaldia
END:VEVENT
BEGIN:VEVENT
DTSTART;VALUE=DATE:20260317
DTEND;VALUE=DATE:20260318
DTSTAMP:20260424T172350
CREATED:20260420T084053Z
LAST-MODIFIED:20260420T084053Z
UID:10000162-1773705600-1773791999@www.corberaebre.cat
SUMMARY:MESANEG/2026/1
DESCRIPTION:
URL:https://www.corberaebre.cat/event/mesaneg-2026-1/
LOCATION:AJUNTAMENT DE CORBERA D’EBRE\, PLAÇA DOCTOR FERRAN S/N\, CORBERA D'EBRE\, 43784
CATEGORIES:Alcaldia
END:VEVENT
BEGIN:VEVENT
DTSTART;VALUE=DATE:20260318
DTEND;VALUE=DATE:20260319
DTSTAMP:20260424T172350
CREATED:20260417T061914Z
LAST-MODIFIED:20260417T061914Z
UID:10000155-1773792000-1773878399@www.corberaebre.cat
SUMMARY:JGL/2026/6
DESCRIPTION:
URL:https://www.corberaebre.cat/event/jgl-2026-6/
LOCATION:AJUNTAMENT DE CORBERA D’EBRE\, PLAÇA DOCTOR FERRAN S/N\, CORBERA D'EBRE\, 43784
CATEGORIES:Alcaldia
END:VEVENT
BEGIN:VEVENT
DTSTART;VALUE=DATE:20260325
DTEND;VALUE=DATE:20260326
DTSTAMP:20260424T172350
CREATED:20260417T062011Z
LAST-MODIFIED:20260417T062011Z
UID:10000156-1774396800-1774483199@www.corberaebre.cat
SUMMARY:JGL/2026/7
DESCRIPTION:
URL:https://www.corberaebre.cat/event/jgl-2026-7/
LOCATION:AJUNTAMENT DE CORBERA D’EBRE\, PLAÇA DOCTOR FERRAN S/N\, CORBERA D'EBRE\, 43784
CATEGORIES:Alcaldia
END:VEVENT
BEGIN:VEVENT
DTSTART;VALUE=DATE:20260325
DTEND;VALUE=DATE:20260326
DTSTAMP:20260424T172350
CREATED:20260420T083915Z
LAST-MODIFIED:20260420T083926Z
UID:10000160-1774396800-1774483199@www.corberaebre.cat
SUMMARY:PLE/2026/1
DESCRIPTION:
URL:https://www.corberaebre.cat/event/ple-2026-1/
LOCATION:AJUNTAMENT DE CORBERA D’EBRE\, PLAÇA DOCTOR FERRAN S/N\, CORBERA D'EBRE\, 43784
CATEGORIES:Alcaldia
END:VEVENT
BEGIN:VEVENT
DTSTART;VALUE=DATE:20260415
DTEND;VALUE=DATE:20260416
DTSTAMP:20260424T172350
CREATED:20260417T062051Z
LAST-MODIFIED:20260417T062051Z
UID:10000157-1776211200-1776297599@www.corberaebre.cat
SUMMARY:JGL/2026/8
DESCRIPTION:
URL:https://www.corberaebre.cat/event/jgl-2026-8/
LOCATION:AJUNTAMENT DE CORBERA D’EBRE\, PLAÇA DOCTOR FERRAN S/N\, CORBERA D'EBRE\, 43784
CATEGORIES:Alcaldia
END:VEVENT
BEGIN:VEVENT
DTSTART;TZID=Europe/Madrid:20260421T120000
DTEND;TZID=Europe/Madrid:20260421T130000
DTSTAMP:20260424T172350
CREATED:20260416T124203Z
LAST-MODIFIED:20260416T124203Z
UID:10000126-1776772800-1776776400@www.corberaebre.cat
SUMMARY:Reunió projecte XCAT
DESCRIPTION:Reunió projecte XCAT de la Generalitat\, i que executa el CTTI\, per dur a terme la connexió de les seus de la Generalitat a la xarxa de fibra òptica (FO) que està desplegant la mateixa Generalitat.
URL:https://www.corberaebre.cat/event/reunio-projecte-xcat/
LOCATION:AJUNTAMENT DE CORBERA D’EBRE\, PLAÇA DOCTOR FERRAN S/N\, CORBERA D'EBRE\, 43784
CATEGORIES:Alcaldia
END:VEVENT
END:VCALENDAR