BEGIN:VCALENDAR
VERSION:2.0
PRODID:-//Ajuntament Corbera d&#039;Ebre - ECPv6.0.4//NONSGML v1.0//EN
CALSCALE:GREGORIAN
METHOD:PUBLISH
X-WR-CALNAME:Ajuntament Corbera d&#039;Ebre
X-ORIGINAL-URL:https://www.corberaebre.cat
X-WR-CALDESC:Esdeveniments per Ajuntament Corbera d&#039;Ebre
REFRESH-INTERVAL;VALUE=DURATION:PT1H
X-Robots-Tag:noindex
X-PUBLISHED-TTL:PT1H
BEGIN:VTIMEZONE
TZID:Europe/Madrid
BEGIN:DAYLIGHT
TZOFFSETFROM:+0100
TZOFFSETTO:+0200
TZNAME:CEST
DTSTART:20250330T010000
END:DAYLIGHT
BEGIN:STANDARD
TZOFFSETFROM:+0200
TZOFFSETTO:+0100
TZNAME:CET
DTSTART:20251026T010000
END:STANDARD
BEGIN:DAYLIGHT
TZOFFSETFROM:+0100
TZOFFSETTO:+0200
TZNAME:CEST
DTSTART:20260329T010000
END:DAYLIGHT
BEGIN:STANDARD
TZOFFSETFROM:+0200
TZOFFSETTO:+0100
TZNAME:CET
DTSTART:20261025T010000
END:STANDARD
END:VTIMEZONE
BEGIN:VEVENT
DTSTART;TZID=Europe/Madrid:20260421T120000
DTEND;TZID=Europe/Madrid:20260421T130000
DTSTAMP:20260424T165833
CREATED:20260416T124203Z
LAST-MODIFIED:20260416T124203Z
UID:10000126-1776772800-1776776400@www.corberaebre.cat
SUMMARY:Reunió projecte XCAT
DESCRIPTION:Reunió projecte XCAT de la Generalitat\, i que executa el CTTI\, per dur a terme la connexió de les seus de la Generalitat a la xarxa de fibra òptica (FO) que està desplegant la mateixa Generalitat.
URL:https://www.corberaebre.cat/event/reunio-projecte-xcat/
LOCATION:AJUNTAMENT DE CORBERA D’EBRE\, PLAÇA DOCTOR FERRAN S/N\, CORBERA D'EBRE\, 43784
CATEGORIES:Alcaldia
END:VEVENT
BEGIN:VEVENT
DTSTART;VALUE=DATE:20260415
DTEND;VALUE=DATE:20260416
DTSTAMP:20260424T165833
CREATED:20260417T062051Z
LAST-MODIFIED:20260417T062051Z
UID:10000157-1776211200-1776297599@www.corberaebre.cat
SUMMARY:JGL/2026/8
DESCRIPTION:
URL:https://www.corberaebre.cat/event/jgl-2026-8/
LOCATION:AJUNTAMENT DE CORBERA D’EBRE\, PLAÇA DOCTOR FERRAN S/N\, CORBERA D'EBRE\, 43784
CATEGORIES:Alcaldia
END:VEVENT
BEGIN:VEVENT
DTSTART;VALUE=DATE:20260325
DTEND;VALUE=DATE:20260326
DTSTAMP:20260424T165833
CREATED:20260420T083915Z
LAST-MODIFIED:20260420T083926Z
UID:10000160-1774396800-1774483199@www.corberaebre.cat
SUMMARY:PLE/2026/1
DESCRIPTION:
URL:https://www.corberaebre.cat/event/ple-2026-1/
LOCATION:AJUNTAMENT DE CORBERA D’EBRE\, PLAÇA DOCTOR FERRAN S/N\, CORBERA D'EBRE\, 43784
CATEGORIES:Alcaldia
END:VEVENT
BEGIN:VEVENT
DTSTART;VALUE=DATE:20260325
DTEND;VALUE=DATE:20260326
DTSTAMP:20260424T165833
CREATED:20260417T062011Z
LAST-MODIFIED:20260417T062011Z
UID:10000156-1774396800-1774483199@www.corberaebre.cat
SUMMARY:JGL/2026/7
DESCRIPTION:
URL:https://www.corberaebre.cat/event/jgl-2026-7/
LOCATION:AJUNTAMENT DE CORBERA D’EBRE\, PLAÇA DOCTOR FERRAN S/N\, CORBERA D'EBRE\, 43784
CATEGORIES:Alcaldia
END:VEVENT
BEGIN:VEVENT
DTSTART;VALUE=DATE:20260318
DTEND;VALUE=DATE:20260319
DTSTAMP:20260424T165833
CREATED:20260417T061914Z
LAST-MODIFIED:20260417T061914Z
UID:10000155-1773792000-1773878399@www.corberaebre.cat
SUMMARY:JGL/2026/6
DESCRIPTION:
URL:https://www.corberaebre.cat/event/jgl-2026-6/
LOCATION:AJUNTAMENT DE CORBERA D’EBRE\, PLAÇA DOCTOR FERRAN S/N\, CORBERA D'EBRE\, 43784
CATEGORIES:Alcaldia
END:VEVENT
BEGIN:VEVENT
DTSTART;VALUE=DATE:20260317
DTEND;VALUE=DATE:20260318
DTSTAMP:20260424T165833
CREATED:20260420T084053Z
LAST-MODIFIED:20260420T084053Z
UID:10000162-1773705600-1773791999@www.corberaebre.cat
SUMMARY:MESANEG/2026/1
DESCRIPTION:
URL:https://www.corberaebre.cat/event/mesaneg-2026-1/
LOCATION:AJUNTAMENT DE CORBERA D’EBRE\, PLAÇA DOCTOR FERRAN S/N\, CORBERA D'EBRE\, 43784
CATEGORIES:Alcaldia
END:VEVENT
BEGIN:VEVENT
DTSTART;VALUE=DATE:20260305
DTEND;VALUE=DATE:20260306
DTSTAMP:20260424T165833
CREATED:20260417T061852Z
LAST-MODIFIED:20260417T061852Z
UID:10000154-1772668800-1772755199@www.corberaebre.cat
SUMMARY:JGL/2026/5
DESCRIPTION:
URL:https://www.corberaebre.cat/event/jgl-2026-5/
LOCATION:AJUNTAMENT DE CORBERA D’EBRE\, PLAÇA DOCTOR FERRAN S/N\, CORBERA D'EBRE\, 43784
CATEGORIES:Alcaldia
END:VEVENT
BEGIN:VEVENT
DTSTART;VALUE=DATE:20260220
DTEND;VALUE=DATE:20260221
DTSTAMP:20260424T165833
CREATED:20260416T123908Z
LAST-MODIFIED:20260416T123908Z
UID:10000125-1771545600-1771631999@www.corberaebre.cat
SUMMARY:Reunió informativa activitats extraordinàries
DESCRIPTION:Reunió informativa activitats extraordinàries – Consell Comarcal de la Terra Alta
URL:https://www.corberaebre.cat/event/reunio-informativa-activitats-extraordinaries/
LOCATION:Consell Comarcal de la Terra Alta
END:VEVENT
BEGIN:VEVENT
DTSTART;VALUE=DATE:20260219
DTEND;VALUE=DATE:20260220
DTSTAMP:20260424T165833
CREATED:20260417T061830Z
LAST-MODIFIED:20260417T061830Z
UID:10000153-1771459200-1771545599@www.corberaebre.cat
SUMMARY:JGL/2026/4
DESCRIPTION:
URL:https://www.corberaebre.cat/event/jgl-2026-4/
LOCATION:AJUNTAMENT DE CORBERA D’EBRE\, PLAÇA DOCTOR FERRAN S/N\, CORBERA D'EBRE\, 43784
CATEGORIES:Alcaldia
END:VEVENT
BEGIN:VEVENT
DTSTART;VALUE=DATE:20260206
DTEND;VALUE=DATE:20260208
DTSTAMP:20260424T165833
CREATED:20260126T132520Z
LAST-MODIFIED:20260126T132520Z
UID:10000122-1770336000-1770508799@www.corberaebre.cat
SUMMARY:CARNAVAL 2026
DESCRIPTION:
URL:https://www.corberaebre.cat/event/carnaval-2026/
LOCATION:CORBERA D’EBRE\, CORBERA D'EBRE\, TARRAGONA\, 43784\, Espanya
CATEGORIES:Event
ATTACH;FMTTYPE=image/png:https://www.corberaebre.cat/wp-content/uploads/2026/01/CARTELL.png
END:VEVENT
BEGIN:VEVENT
DTSTART;VALUE=DATE:20260206
DTEND;VALUE=DATE:20260207
DTSTAMP:20260424T165833
CREATED:20260417T061805Z
LAST-MODIFIED:20260417T061805Z
UID:10000152-1770336000-1770422399@www.corberaebre.cat
SUMMARY:JGL/2026/3
DESCRIPTION:
URL:https://www.corberaebre.cat/event/jgl-2026-3/
LOCATION:AJUNTAMENT DE CORBERA D’EBRE\, PLAÇA DOCTOR FERRAN S/N\, CORBERA D'EBRE\, 43784
CATEGORIES:Alcaldia
END:VEVENT
BEGIN:VEVENT
DTSTART;VALUE=DATE:20260202
DTEND;VALUE=DATE:20260203
DTSTAMP:20260424T165833
CREATED:20260416T123450Z
LAST-MODIFIED:20260416T123830Z
UID:10000124-1769990400-1770076799@www.corberaebre.cat
SUMMARY:Municipis per la llengua
DESCRIPTION:Reunió al Consell Comarcal de la Terra Alta – Municipis per la llengua
URL:https://www.corberaebre.cat/event/municipis-per-la-llengua/
LOCATION:Consell Comarcal de la Terra Alta
CATEGORIES:Alcaldia
END:VEVENT
BEGIN:VEVENT
DTSTART;VALUE=DATE:20260129
DTEND;VALUE=DATE:20260130
DTSTAMP:20260424T165834
CREATED:20260417T061729Z
LAST-MODIFIED:20260417T061729Z
UID:10000151-1769644800-1769731199@www.corberaebre.cat
SUMMARY:JGL/2026/2
DESCRIPTION:
URL:https://www.corberaebre.cat/event/jgl-2026-2/
LOCATION:AJUNTAMENT DE CORBERA D’EBRE\, PLAÇA DOCTOR FERRAN S/N\, CORBERA D'EBRE\, 43784
CATEGORIES:Alcaldia
END:VEVENT
BEGIN:VEVENT
DTSTART;VALUE=DATE:20260123
DTEND;VALUE=DATE:20260124
DTSTAMP:20260424T165834
CREATED:20260417T061645Z
LAST-MODIFIED:20260417T061701Z
UID:10000150-1769126400-1769212799@www.corberaebre.cat
SUMMARY:JGL/2026/1
DESCRIPTION:
URL:https://www.corberaebre.cat/event/jgl-2026-1/
LOCATION:AJUNTAMENT DE CORBERA D’EBRE\, PLAÇA DOCTOR FERRAN S/N\, CORBERA D'EBRE\, 43784
CATEGORIES:Alcaldia
END:VEVENT
BEGIN:VEVENT
DTSTART;VALUE=DATE:20260108
DTEND;VALUE=DATE:20260109
DTSTAMP:20260424T165834
CREATED:20260416T123142Z
LAST-MODIFIED:20260416T123217Z
UID:10000123-1767830400-1767916799@www.corberaebre.cat
SUMMARY:sessió informativa 2% cultural
DESCRIPTION:Reunió sessió informativa 2% cultural – Subdelegació del Govern a Tarragona
URL:https://www.corberaebre.cat/event/sessio-informativa-2-cultural/
LOCATION:Subdelegació del Govern a Tarragona
CATEGORIES:Alcaldia
END:VEVENT
BEGIN:VEVENT
DTSTART;VALUE=DATE:20251230
DTEND;VALUE=DATE:20251231
DTSTAMP:20260424T165834
CREATED:20260417T061618Z
LAST-MODIFIED:20260417T061618Z
UID:10000149-1767052800-1767139199@www.corberaebre.cat
SUMMARY:JGL/2025/29
DESCRIPTION:
URL:https://www.corberaebre.cat/event/jgl-2025-29/
LOCATION:AJUNTAMENT DE CORBERA D’EBRE\, PLAÇA DOCTOR FERRAN S/N\, CORBERA D'EBRE\, 43784
CATEGORIES:Alcaldia
END:VEVENT
BEGIN:VEVENT
DTSTART;VALUE=DATE:20251219
DTEND;VALUE=DATE:20251220
DTSTAMP:20260424T165834
CREATED:20260420T083850Z
LAST-MODIFIED:20260420T083850Z
UID:10000159-1766102400-1766188799@www.corberaebre.cat
SUMMARY:PLE/2025/11
DESCRIPTION:
URL:https://www.corberaebre.cat/event/ple-2025-11/
LOCATION:AJUNTAMENT DE CORBERA D’EBRE\, PLAÇA DOCTOR FERRAN S/N\, CORBERA D'EBRE\, 43784
CATEGORIES:Alcaldia
END:VEVENT
BEGIN:VEVENT
DTSTART;VALUE=DATE:20251219
DTEND;VALUE=DATE:20251220
DTSTAMP:20260424T165834
CREATED:20260417T061549Z
LAST-MODIFIED:20260417T061549Z
UID:10000148-1766102400-1766188799@www.corberaebre.cat
SUMMARY:JGL/2025/28
DESCRIPTION:
URL:https://www.corberaebre.cat/event/jgl-2025-28/
LOCATION:AJUNTAMENT DE CORBERA D’EBRE\, PLAÇA DOCTOR FERRAN S/N\, CORBERA D'EBRE\, 43784
CATEGORIES:Alcaldia
END:VEVENT
BEGIN:VEVENT
DTSTART;VALUE=DATE:20251218
DTEND;VALUE=DATE:20251219
DTSTAMP:20260424T165834
CREATED:20260420T084012Z
LAST-MODIFIED:20260420T084018Z
UID:10000161-1766016000-1766102399@www.corberaebre.cat
SUMMARY:MESANEG/2025/1
DESCRIPTION:
URL:https://www.corberaebre.cat/event/mesaneg-2025-1/
LOCATION:AJUNTAMENT DE CORBERA D’EBRE\, PLAÇA DOCTOR FERRAN S/N\, CORBERA D'EBRE\, 43784
CATEGORIES:Alcaldia
END:VEVENT
BEGIN:VEVENT
DTSTART;VALUE=DATE:20251215
DTEND;VALUE=DATE:20251216
DTSTAMP:20260424T165834
CREATED:20260417T061525Z
LAST-MODIFIED:20260417T061525Z
UID:10000147-1765756800-1765843199@www.corberaebre.cat
SUMMARY:JGL/2025/27
DESCRIPTION:
URL:https://www.corberaebre.cat/event/jgl-2025-27/
LOCATION:AJUNTAMENT DE CORBERA D’EBRE\, PLAÇA DOCTOR FERRAN S/N\, CORBERA D'EBRE\, 43784
CATEGORIES:Alcaldia
END:VEVENT
BEGIN:VEVENT
DTSTART;VALUE=DATE:20251204
DTEND;VALUE=DATE:20251205
DTSTAMP:20260424T165834
CREATED:20260417T061440Z
LAST-MODIFIED:20260417T061440Z
UID:10000146-1764806400-1764892799@www.corberaebre.cat
SUMMARY:JGL/2025/26
DESCRIPTION:
URL:https://www.corberaebre.cat/event/jgl-2025-26/
LOCATION:AJUNTAMENT DE CORBERA D’EBRE\, PLAÇA DOCTOR FERRAN S/N\, CORBERA D'EBRE\, 43784
CATEGORIES:Alcaldia
END:VEVENT
BEGIN:VEVENT
DTSTART;VALUE=DATE:20251127
DTEND;VALUE=DATE:20251128
DTSTAMP:20260424T165834
CREATED:20260420T083813Z
LAST-MODIFIED:20260420T083813Z
UID:10000158-1764201600-1764287999@www.corberaebre.cat
SUMMARY:PLE/2025/10
DESCRIPTION:
URL:https://www.corberaebre.cat/event/ple-2025-10/
LOCATION:AJUNTAMENT DE CORBERA D’EBRE\, PLAÇA DOCTOR FERRAN S/N\, CORBERA D'EBRE\, 43784
CATEGORIES:Alcaldia
END:VEVENT
BEGIN:VEVENT
DTSTART;VALUE=DATE:20251121
DTEND;VALUE=DATE:20251122
DTSTAMP:20260424T165834
CREATED:20260417T061415Z
LAST-MODIFIED:20260417T061415Z
UID:10000145-1763683200-1763769599@www.corberaebre.cat
SUMMARY:JGL/2025/25
DESCRIPTION:
URL:https://www.corberaebre.cat/event/jgl-2025-25/
LOCATION:AJUNTAMENT DE CORBERA D’EBRE\, PLAÇA DOCTOR FERRAN S/N\, CORBERA D'EBRE\, 43784
CATEGORIES:Alcaldia
END:VEVENT
BEGIN:VEVENT
DTSTART;VALUE=DATE:20251114
DTEND;VALUE=DATE:20251115
DTSTAMP:20260424T165834
CREATED:20260417T061337Z
LAST-MODIFIED:20260417T061337Z
UID:10000144-1763078400-1763164799@www.corberaebre.cat
SUMMARY:JGL/2025/24
DESCRIPTION:
URL:https://www.corberaebre.cat/event/jgl-2025-24/
LOCATION:AJUNTAMENT DE CORBERA D’EBRE\, PLAÇA DOCTOR FERRAN S/N\, CORBERA D'EBRE\, 43784
CATEGORIES:Alcaldia
END:VEVENT
BEGIN:VEVENT
DTSTART;VALUE=DATE:20251027
DTEND;VALUE=DATE:20251028
DTSTAMP:20260424T165834
CREATED:20260417T061313Z
LAST-MODIFIED:20260417T061313Z
UID:10000143-1761523200-1761609599@www.corberaebre.cat
SUMMARY:JGL/2025/23
DESCRIPTION:
URL:https://www.corberaebre.cat/event/jgl-2025-23/
LOCATION:AJUNTAMENT DE CORBERA D’EBRE\, PLAÇA DOCTOR FERRAN S/N\, CORBERA D'EBRE\, 43784
CATEGORIES:Alcaldia
END:VEVENT
BEGIN:VEVENT
DTSTART;VALUE=DATE:20251022
DTEND;VALUE=DATE:20251023
DTSTAMP:20260424T165834
CREATED:20260417T061206Z
LAST-MODIFIED:20260417T061206Z
UID:10000142-1761091200-1761177599@www.corberaebre.cat
SUMMARY:JGL/2025/22
DESCRIPTION:
URL:https://www.corberaebre.cat/event/jgl-2025-22/
LOCATION:AJUNTAMENT DE CORBERA D’EBRE\, PLAÇA DOCTOR FERRAN S/N\, CORBERA D'EBRE\, 43784
CATEGORIES:Alcaldia
END:VEVENT
BEGIN:VEVENT
DTSTART;VALUE=DATE:20251008
DTEND;VALUE=DATE:20251009
DTSTAMP:20260424T165834
CREATED:20260417T061114Z
LAST-MODIFIED:20260417T061114Z
UID:10000141-1759881600-1759967999@www.corberaebre.cat
SUMMARY:JGL/2025/21
DESCRIPTION:
URL:https://www.corberaebre.cat/event/jgl-2025-21/
LOCATION:AJUNTAMENT DE CORBERA D’EBRE\, PLAÇA DOCTOR FERRAN S/N\, CORBERA D'EBRE\, 43784
CATEGORIES:Alcaldia
END:VEVENT
BEGIN:VEVENT
DTSTART;VALUE=DATE:20251002
DTEND;VALUE=DATE:20251003
DTSTAMP:20260424T165834
CREATED:20260417T061040Z
LAST-MODIFIED:20260417T061040Z
UID:10000140-1759363200-1759449599@www.corberaebre.cat
SUMMARY:JGL/2025/20
DESCRIPTION:
URL:https://www.corberaebre.cat/event/jgl-2025-20/
LOCATION:AJUNTAMENT DE CORBERA D’EBRE\, PLAÇA DOCTOR FERRAN S/N\, CORBERA D'EBRE\, 43784
END:VEVENT
BEGIN:VEVENT
DTSTART;TZID=Europe/Madrid:20250929T130000
DTEND;TZID=Europe/Madrid:20250929T140000
DTSTAMP:20260424T165834
CREATED:20250925T113808Z
LAST-MODIFIED:20250925T113808Z
UID:10000120-1759150800-1759154400@www.corberaebre.cat
SUMMARY:Reunió amb l’Inspector Cap de l’ABP Terra Alta-Ribera d’Ebre
DESCRIPTION:
URL:https://www.corberaebre.cat/event/reunio-amb-linspector-cap-de-labp-terra-alta-ribera-debre/
CATEGORIES:Alcaldia
END:VEVENT
BEGIN:VEVENT
DTSTART;TZID=Europe/Madrid:20250923T120500
DTEND;TZID=Europe/Madrid:20250923T130500
DTSTAMP:20260424T165834
CREATED:20250925T113703Z
LAST-MODIFIED:20250925T113703Z
UID:10000119-1758629100-1758632700@www.corberaebre.cat
SUMMARY:PLE/2025/8
DESCRIPTION:
URL:https://www.corberaebre.cat/event/ple-2025-8/
LOCATION:AJUNTAMENT DE CORBERA D’EBRE\, PLAÇA DOCTOR FERRAN S/N\, CORBERA D'EBRE\, 43784
CATEGORIES:Alcaldia
ORGANIZER;CN="Ajuntament%20de%20Corbera%20d%27Ebre":MAILTO:ajuntament@corberaebre.cat
END:VEVENT
END:VCALENDAR