BEGIN:VCALENDAR
VERSION:2.0
PRODID:-//Ajuntament Corbera d&#039;Ebre - ECPv6.0.4//NONSGML v1.0//EN
CALSCALE:GREGORIAN
METHOD:PUBLISH
X-ORIGINAL-URL:https://www.corberaebre.cat
X-WR-CALDESC:Esdeveniments per Ajuntament Corbera d&#039;Ebre
REFRESH-INTERVAL;VALUE=DURATION:PT1H
X-Robots-Tag:noindex
X-PUBLISHED-TTL:PT1H
BEGIN:VTIMEZONE
TZID:Europe/Madrid
BEGIN:DAYLIGHT
TZOFFSETFROM:+0100
TZOFFSETTO:+0200
TZNAME:CEST
DTSTART:20260329T010000
END:DAYLIGHT
BEGIN:STANDARD
TZOFFSETFROM:+0200
TZOFFSETTO:+0100
TZNAME:CET
DTSTART:20261025T010000
END:STANDARD
END:VTIMEZONE
BEGIN:VEVENT
DTSTART;VALUE=DATE:20260202
DTEND;VALUE=DATE:20260203
DTSTAMP:20260424T170727
CREATED:20260416T123450Z
LAST-MODIFIED:20260416T123830Z
UID:10000124-1769990400-1770076799@www.corberaebre.cat
SUMMARY:Municipis per la llengua
DESCRIPTION:Reunió al Consell Comarcal de la Terra Alta – Municipis per la llengua
URL:https://www.corberaebre.cat/event/municipis-per-la-llengua/
LOCATION:Consell Comarcal de la Terra Alta
CATEGORIES:Alcaldia
END:VEVENT
END:VCALENDAR